BEGIN:VCALENDAR
VERSION:2.0
PRODID:-//Mikrokosmos - ECPv6.0.10//NONSGML v1.0//EN
CALSCALE:GREGORIAN
METHOD:PUBLISH
X-WR-CALNAME:Mikrokosmos
X-ORIGINAL-URL:https://mikrokosmos.edu.pl
X-WR-CALDESC:Wydarzenia dla Mikrokosmos
REFRESH-INTERVAL;VALUE=DURATION:PT1H
X-Robots-Tag:noindex
X-PUBLISHED-TTL:PT1H
BEGIN:VTIMEZONE
TZID:Europe/Warsaw
BEGIN:DAYLIGHT
TZOFFSETFROM:+0100
TZOFFSETTO:+0200
TZNAME:CEST
DTSTART:20240331T010000
END:DAYLIGHT
BEGIN:STANDARD
TZOFFSETFROM:+0200
TZOFFSETTO:+0100
TZNAME:CET
DTSTART:20241027T010000
END:STANDARD
END:VTIMEZONE
BEGIN:VEVENT
DTSTART;TZID=Europe/Warsaw:20240601T110000
DTEND;TZID=Europe/Warsaw:20240601T190000
DTSTAMP:20260420T113827
CREATED:20240110T131255Z
LAST-MODIFIED:20240110T131317Z
UID:1957-1717239600-1717268400@mikrokosmos.edu.pl
SUMMARY:DZIEŃ DZIECKA - OTWARTE zapraszamy
DESCRIPTION:
URL:https://mikrokosmos.edu.pl/godzina-otwarcia-parku/dzien-dziecka-otwarte-zapraszamy/
CATEGORIES:Mikrokosmos
END:VEVENT
BEGIN:VEVENT
DTSTART;TZID=Europe/Warsaw:20240602T110000
DTEND;TZID=Europe/Warsaw:20240602T190000
DTSTAMP:20260420T113827
CREATED:20240110T132006Z
LAST-MODIFIED:20240110T132006Z
UID:1959-1717326000-1717354800@mikrokosmos.edu.pl
SUMMARY:OTWARTE zapraszamy
DESCRIPTION:
URL:https://mikrokosmos.edu.pl/godzina-otwarcia-parku/otwarte-zapraszamy-116/
CATEGORIES:Mikrokosmos
END:VEVENT
BEGIN:VEVENT
DTSTART;TZID=Europe/Warsaw:20240608T110000
DTEND;TZID=Europe/Warsaw:20240608T190000
DTSTAMP:20260420T113827
CREATED:20240110T132038Z
LAST-MODIFIED:20240110T132038Z
UID:1961-1717844400-1717873200@mikrokosmos.edu.pl
SUMMARY:OTWARTE zapraszamy
DESCRIPTION:
URL:https://mikrokosmos.edu.pl/godzina-otwarcia-parku/otwarte-zapraszamy-117/
CATEGORIES:Mikrokosmos
END:VEVENT
BEGIN:VEVENT
DTSTART;TZID=Europe/Warsaw:20240609T110000
DTEND;TZID=Europe/Warsaw:20240609T190000
DTSTAMP:20260420T113827
CREATED:20240110T132113Z
LAST-MODIFIED:20240110T132113Z
UID:1963-1717930800-1717959600@mikrokosmos.edu.pl
SUMMARY:OTWARTE zapraszamy
DESCRIPTION:
URL:https://mikrokosmos.edu.pl/godzina-otwarcia-parku/otwarte-zapraszamy-118/
CATEGORIES:Mikrokosmos
END:VEVENT
BEGIN:VEVENT
DTSTART;TZID=Europe/Warsaw:20240615T110000
DTEND;TZID=Europe/Warsaw:20240615T190000
DTSTAMP:20260420T113827
CREATED:20240110T132141Z
LAST-MODIFIED:20240110T132141Z
UID:1965-1718449200-1718478000@mikrokosmos.edu.pl
SUMMARY:OTWARTE zapraszamy
DESCRIPTION:
URL:https://mikrokosmos.edu.pl/godzina-otwarcia-parku/otwarte-zapraszamy-119/
CATEGORIES:Mikrokosmos
END:VEVENT
BEGIN:VEVENT
DTSTART;TZID=Europe/Warsaw:20240616T110000
DTEND;TZID=Europe/Warsaw:20240616T190000
DTSTAMP:20260420T113827
CREATED:20240110T132213Z
LAST-MODIFIED:20240110T132213Z
UID:1967-1718535600-1718564400@mikrokosmos.edu.pl
SUMMARY:OTWARTE zapraszamy
DESCRIPTION:
URL:https://mikrokosmos.edu.pl/godzina-otwarcia-parku/otwarte-zapraszamy-120/
CATEGORIES:Mikrokosmos
END:VEVENT
BEGIN:VEVENT
DTSTART;TZID=Europe/Warsaw:20240622T110000
DTEND;TZID=Europe/Warsaw:20240622T190000
DTSTAMP:20260420T113827
CREATED:20240110T132246Z
LAST-MODIFIED:20240110T132246Z
UID:1969-1719054000-1719082800@mikrokosmos.edu.pl
SUMMARY:OTWARTE zapraszamy
DESCRIPTION:
URL:https://mikrokosmos.edu.pl/godzina-otwarcia-parku/otwarte-zapraszamy-121/
CATEGORIES:Mikrokosmos
END:VEVENT
BEGIN:VEVENT
DTSTART;TZID=Europe/Warsaw:20240623T110000
DTEND;TZID=Europe/Warsaw:20240623T190000
DTSTAMP:20260420T113827
CREATED:20240110T132316Z
LAST-MODIFIED:20240110T132316Z
UID:1971-1719140400-1719169200@mikrokosmos.edu.pl
SUMMARY:OTWARTE zapraszamy
DESCRIPTION:
URL:https://mikrokosmos.edu.pl/godzina-otwarcia-parku/otwarte-zapraszamy-122/
CATEGORIES:Mikrokosmos
END:VEVENT
BEGIN:VEVENT
DTSTART;TZID=Europe/Warsaw:20240629T110000
DTEND;TZID=Europe/Warsaw:20240629T190000
DTSTAMP:20260420T113827
CREATED:20240110T132356Z
LAST-MODIFIED:20240110T132356Z
UID:1973-1719658800-1719687600@mikrokosmos.edu.pl
SUMMARY:OTWARTE zapraszamy
DESCRIPTION:
URL:https://mikrokosmos.edu.pl/godzina-otwarcia-parku/otwarte-zapraszamy-123/
CATEGORIES:Mikrokosmos
END:VEVENT
BEGIN:VEVENT
DTSTART;TZID=Europe/Warsaw:20240630T110000
DTEND;TZID=Europe/Warsaw:20240630T190000
DTSTAMP:20260420T113827
CREATED:20240110T132451Z
LAST-MODIFIED:20240110T132451Z
UID:1975-1719745200-1719774000@mikrokosmos.edu.pl
SUMMARY:OTWARTE zapraszamy
DESCRIPTION:
URL:https://mikrokosmos.edu.pl/godzina-otwarcia-parku/otwarte-zapraszamy-124/
CATEGORIES:Mikrokosmos
END:VEVENT
END:VCALENDAR