BEGIN:VCALENDAR
VERSION:2.0
PRODID:-//Mikrokosmos - ECPv6.0.10//NONSGML v1.0//EN
CALSCALE:GREGORIAN
METHOD:PUBLISH
X-WR-CALNAME:Mikrokosmos
X-ORIGINAL-URL:https://mikrokosmos.edu.pl
X-WR-CALDESC:Wydarzenia dla Mikrokosmos
REFRESH-INTERVAL;VALUE=DURATION:PT1H
X-Robots-Tag:noindex
X-PUBLISHED-TTL:PT1H
BEGIN:VTIMEZONE
TZID:Europe/Warsaw
BEGIN:DAYLIGHT
TZOFFSETFROM:+0100
TZOFFSETTO:+0200
TZNAME:CEST
DTSTART:20240331T010000
END:DAYLIGHT
BEGIN:STANDARD
TZOFFSETFROM:+0200
TZOFFSETTO:+0100
TZNAME:CET
DTSTART:20241027T010000
END:STANDARD
END:VTIMEZONE
BEGIN:VEVENT
DTSTART;TZID=Europe/Warsaw:20240501T110000
DTEND;TZID=Europe/Warsaw:20240501T190000
DTSTAMP:20260420T102346
CREATED:20240110T125928Z
LAST-MODIFIED:20240110T125928Z
UID:1934-1714561200-1714590000@mikrokosmos.edu.pl
SUMMARY:OTWARTE zapraszamy
DESCRIPTION:
URL:https://mikrokosmos.edu.pl/godzina-otwarcia-parku/otwarte-zapraszamy-105/
CATEGORIES:Mikrokosmos
END:VEVENT
BEGIN:VEVENT
DTSTART;TZID=Europe/Warsaw:20240502T110000
DTEND;TZID=Europe/Warsaw:20240502T190000
DTSTAMP:20260420T102346
CREATED:20240110T130006Z
LAST-MODIFIED:20240110T130006Z
UID:1936-1714647600-1714676400@mikrokosmos.edu.pl
SUMMARY:OTWARTE zapraszamy
DESCRIPTION:
URL:https://mikrokosmos.edu.pl/godzina-otwarcia-parku/otwarte-zapraszamy-106/
CATEGORIES:Mikrokosmos
END:VEVENT
BEGIN:VEVENT
DTSTART;TZID=Europe/Warsaw:20240503T110000
DTEND;TZID=Europe/Warsaw:20240503T190000
DTSTAMP:20260420T102346
CREATED:20240110T130133Z
LAST-MODIFIED:20240110T130133Z
UID:1938-1714734000-1714762800@mikrokosmos.edu.pl
SUMMARY:OTWARTE zapraszamy
DESCRIPTION:
URL:https://mikrokosmos.edu.pl/godzina-otwarcia-parku/otwarte-zapraszamy-107/
CATEGORIES:Mikrokosmos
END:VEVENT
BEGIN:VEVENT
DTSTART;TZID=Europe/Warsaw:20240504T110000
DTEND;TZID=Europe/Warsaw:20240504T190000
DTSTAMP:20260420T102346
CREATED:20240110T130205Z
LAST-MODIFIED:20240110T130205Z
UID:1940-1714820400-1714849200@mikrokosmos.edu.pl
SUMMARY:OTWARTE zapraszamy
DESCRIPTION:
URL:https://mikrokosmos.edu.pl/godzina-otwarcia-parku/otwarte-zapraszamy-108/
CATEGORIES:Mikrokosmos
END:VEVENT
BEGIN:VEVENT
DTSTART;TZID=Europe/Warsaw:20240505T110000
DTEND;TZID=Europe/Warsaw:20240505T190000
DTSTAMP:20260420T102346
CREATED:20240110T130244Z
LAST-MODIFIED:20240110T130244Z
UID:1942-1714906800-1714935600@mikrokosmos.edu.pl
SUMMARY:OTWARTE zapraszamy
DESCRIPTION:
URL:https://mikrokosmos.edu.pl/godzina-otwarcia-parku/otwarte-zapraszamy-109/
CATEGORIES:Mikrokosmos
END:VEVENT
BEGIN:VEVENT
DTSTART;TZID=Europe/Warsaw:20240511T110000
DTEND;TZID=Europe/Warsaw:20240511T190000
DTSTAMP:20260420T102346
CREATED:20240110T130315Z
LAST-MODIFIED:20240110T130315Z
UID:1944-1715425200-1715454000@mikrokosmos.edu.pl
SUMMARY:OTWARTE zapraszamy
DESCRIPTION:
URL:https://mikrokosmos.edu.pl/godzina-otwarcia-parku/otwarte-zapraszamy-110/
CATEGORIES:Mikrokosmos
END:VEVENT
BEGIN:VEVENT
DTSTART;VALUE=DATE:20240512
DTEND;VALUE=DATE:20240513
DTSTAMP:20260420T102346
CREATED:20240209T201119Z
LAST-MODIFIED:20240209T201451Z
UID:2092-1715472000-1715558399@mikrokosmos.edu.pl
SUMMARY:ZAMKNIĘTE - wyjątkowo dziś mamy zamknięte :-(
DESCRIPTION:
URL:https://mikrokosmos.edu.pl/godzina-otwarcia-parku/zamkniete-8/
CATEGORIES:Mikrokosmos
END:VEVENT
BEGIN:VEVENT
DTSTART;TZID=Europe/Warsaw:20240518T110000
DTEND;TZID=Europe/Warsaw:20240518T190000
DTSTAMP:20260420T102346
CREATED:20240110T130436Z
LAST-MODIFIED:20240110T131105Z
UID:1948-1716030000-1716058800@mikrokosmos.edu.pl
SUMMARY:OTWARTE zapraszamy
DESCRIPTION:
URL:https://mikrokosmos.edu.pl/godzina-otwarcia-parku/otwarte-zapraszamy-112/
CATEGORIES:Mikrokosmos
END:VEVENT
BEGIN:VEVENT
DTSTART;TZID=Europe/Warsaw:20240519T110000
DTEND;TZID=Europe/Warsaw:20240519T190000
DTSTAMP:20260420T102346
CREATED:20240110T130731Z
LAST-MODIFIED:20240110T131139Z
UID:1950-1716116400-1716145200@mikrokosmos.edu.pl
SUMMARY:OTWARTE zapraszamy
DESCRIPTION:
URL:https://mikrokosmos.edu.pl/godzina-otwarcia-parku/otwarte-zapraszamy-113/
CATEGORIES:Mikrokosmos
END:VEVENT
BEGIN:VEVENT
DTSTART;TZID=Europe/Warsaw:20240525T110000
DTEND;TZID=Europe/Warsaw:20240525T190000
DTSTAMP:20260420T102346
CREATED:20240110T130800Z
LAST-MODIFIED:20240110T130800Z
UID:1952-1716634800-1716663600@mikrokosmos.edu.pl
SUMMARY:OTWARTE zapraszamy
DESCRIPTION:
URL:https://mikrokosmos.edu.pl/godzina-otwarcia-parku/otwarte-zapraszamy-114/
CATEGORIES:Mikrokosmos
END:VEVENT
BEGIN:VEVENT
DTSTART;TZID=Europe/Warsaw:20240526T110000
DTEND;TZID=Europe/Warsaw:20240526T190000
DTSTAMP:20260420T102346
CREATED:20240110T130842Z
LAST-MODIFIED:20240110T130842Z
UID:1954-1716721200-1716750000@mikrokosmos.edu.pl
SUMMARY:OTWARTE zapraszamy
DESCRIPTION:
URL:https://mikrokosmos.edu.pl/godzina-otwarcia-parku/otwarte-zapraszamy-115/
CATEGORIES:Mikrokosmos
END:VEVENT
BEGIN:VEVENT
DTSTART;TZID=Europe/Warsaw:20240530T110000
DTEND;TZID=Europe/Warsaw:20240530T190000
DTSTAMP:20260420T102346
CREATED:20240110T132722Z
LAST-MODIFIED:20240110T132722Z
UID:1977-1717066800-1717095600@mikrokosmos.edu.pl
SUMMARY:Boże Ciało - Otwarte zapraszamy
DESCRIPTION:
URL:https://mikrokosmos.edu.pl/godzina-otwarcia-parku/boze-cialo-otwarte-zapraszamy/
CATEGORIES:Mikrokosmos
END:VEVENT
BEGIN:VEVENT
DTSTART;TZID=Europe/Warsaw:20240531T110000
DTEND;TZID=Europe/Warsaw:20240531T190000
DTSTAMP:20260420T102346
CREATED:20240110T132855Z
LAST-MODIFIED:20240110T132855Z
UID:1979-1717153200-1717182000@mikrokosmos.edu.pl
SUMMARY:Długi weekend - Otwarte zapraszamy
DESCRIPTION:
URL:https://mikrokosmos.edu.pl/godzina-otwarcia-parku/dlugi-weekend-otwarte-zapraszamy-2/
CATEGORIES:Mikrokosmos
END:VEVENT
END:VCALENDAR